BEGIN:VCALENDAR
VERSION:2.0
PRODID:-//Suomen Motoristiopisto SMOP - ECPv5.13.0//NONSGML v1.0//EN
CALSCALE:GREGORIAN
METHOD:PUBLISH
X-WR-CALNAME:Suomen Motoristiopisto SMOP
X-ORIGINAL-URL:https://www.motoristiopisto.com
X-WR-CALDESC:Tapahtumat Suomen Motoristiopisto SMOP
REFRESH-INTERVAL;VALUE=DURATION:PT1H
X-Robots-Tag:noindex
X-PUBLISHED-TTL:PT1H
BEGIN:VTIMEZONE
TZID:Europe/Helsinki
BEGIN:DAYLIGHT
TZOFFSETFROM:+0200
TZOFFSETTO:+0300
TZNAME:EEST
DTSTART:20260329T010000
END:DAYLIGHT
BEGIN:STANDARD
TZOFFSETFROM:+0300
TZOFFSETTO:+0200
TZNAME:EET
DTSTART:20261025T010000
END:STANDARD
END:VTIMEZONE
BEGIN:VEVENT
DTSTART;TZID=Europe/Helsinki:20260523T090000
DTEND;TZID=Europe/Helsinki:20260523T170000
DTSTAMP:20260425T221444
CREATED:20260416T144228Z
LAST-MODIFIED:20260416T144228Z
UID:1870-1779526800-1779555600@www.motoristiopisto.com
SUMMARY:Varattu LähiTapiola
DESCRIPTION:
URL:https://www.motoristiopisto.com/event/varattu-lahitapiola/
LOCATION:OuluZone
END:VEVENT
END:VCALENDAR