BEGIN:VCALENDAR
VERSION:2.0
PRODID:-//Suomen Motoristiopisto SMOP - ECPv5.13.0//NONSGML v1.0//EN
CALSCALE:GREGORIAN
METHOD:PUBLISH
X-WR-CALNAME:Suomen Motoristiopisto SMOP
X-ORIGINAL-URL:https://www.motoristiopisto.com
X-WR-CALDESC:Tapahtumat Suomen Motoristiopisto SMOP
REFRESH-INTERVAL;VALUE=DURATION:PT1H
X-Robots-Tag:noindex
X-PUBLISHED-TTL:PT1H
BEGIN:VTIMEZONE
TZID:Europe/Helsinki
BEGIN:DAYLIGHT
TZOFFSETFROM:+0200
TZOFFSETTO:+0300
TZNAME:EEST
DTSTART:20260329T010000
END:DAYLIGHT
BEGIN:STANDARD
TZOFFSETFROM:+0300
TZOFFSETTO:+0200
TZNAME:EET
DTSTART:20261025T010000
END:STANDARD
END:VTIMEZONE
BEGIN:VEVENT
DTSTART;TZID=Europe/Helsinki:20260517T090000
DTEND;TZID=Europe/Helsinki:20260517T170000
DTSTAMP:20260425T221337
CREATED:20260124T122653Z
LAST-MODIFIED:20260125T145548Z
UID:1838-1779008400-1779037200@www.motoristiopisto.com
SUMMARY:MPEAK-2 Motoristin hätätilannetaidot
DESCRIPTION:MPEAK-2 Ajokoulutus MPEAK-1 koulutuksen suorittaneille sekä hyvät ajotaidot omaaville motoristeille. Koulutus pidetään OuluZonessa. Koulutus on ensisijaisesti Oulu MC ry:n\, BMW Moottoripyöräkerho ry:n sekä VMPK ry:n jäsenille. Lisätietoa ja ilmoittautumisohjeet saat kerhojen tiedotuksesta.
URL:https://www.motoristiopisto.com/event/mpeak-2-motoristin-hatatilannetaidot/
END:VEVENT
END:VCALENDAR