BEGIN:VCALENDAR
VERSION:2.0
PRODID:-//Suomen Motoristiopisto SMOP - ECPv5.13.0//NONSGML v1.0//EN
CALSCALE:GREGORIAN
METHOD:PUBLISH
X-WR-CALNAME:Suomen Motoristiopisto SMOP
X-ORIGINAL-URL:https://www.motoristiopisto.com
X-WR-CALDESC:Tapahtumat Suomen Motoristiopisto SMOP
REFRESH-INTERVAL;VALUE=DURATION:PT1H
X-Robots-Tag:noindex
X-PUBLISHED-TTL:PT1H
BEGIN:VTIMEZONE
TZID:Europe/Helsinki
BEGIN:DAYLIGHT
TZOFFSETFROM:+0200
TZOFFSETTO:+0300
TZNAME:EEST
DTSTART:20260329T010000
END:DAYLIGHT
BEGIN:STANDARD
TZOFFSETFROM:+0300
TZOFFSETTO:+0200
TZNAME:EET
DTSTART:20261025T010000
END:STANDARD
END:VTIMEZONE
BEGIN:VEVENT
DTSTART;TZID=Europe/Helsinki:20260130T100000
DTEND;TZID=Europe/Helsinki:20260201T170000
DTSTAMP:20260425T235229
CREATED:20260124T124957Z
LAST-MODIFIED:20260124T124957Z
UID:1849-1769767200-1769965200@www.motoristiopisto.com
SUMMARY:MP 26 Helsinki
DESCRIPTION:Tästä se valmistautuminen alkaa.
URL:https://www.motoristiopisto.com/event/mp-26-helsinki/
END:VEVENT
END:VCALENDAR